BEGIN:VCALENDAR
VERSION:2.0
PRODID:-//East Fremantle Bowling Club - ECPv4.9.10//NONSGML v1.0//EN
CALSCALE:GREGORIAN
METHOD:PUBLISH
X-WR-CALNAME:East Fremantle Bowling Club
X-ORIGINAL-URL:https://efbc.net.au
X-WR-CALDESC:Events for East Fremantle Bowling Club
BEGIN:VTIMEZONE
TZID:Australia/Perth
BEGIN:STANDARD
TZOFFSETFROM:+0800
TZOFFSETTO:+0800
TZNAME:AWST
DTSTART:20210101T000000
END:STANDARD
END:VTIMEZONE
BEGIN:VEVENT
DTSTART;TZID=Australia/Perth:20210127T123000
DTEND;TZID=Australia/Perth:20210127T170000
DTSTAMP:20210224T034038
CREATED:20191031T084831Z
LAST-MODIFIED:20201220T092905Z
UID:1898-1611750600-1611766800@efbc.net.au
SUMMARY:Wednesday Social Bowling
DESCRIPTION:Wednesday bowling is our weekly social lawn bowling event over the warmer months. It’s all about having fun with friends lawn bowling over a drink or two. \nPlease arrive by 12.30pm for a 1pm start so we can form you all into teams with a $8 per player fee. \nWe enjoy half time drinks(licenced bar available) and nibbles(provided). Feel free to dress as casually as you like. There’s door prizes\, raffles and prize money for the winning team. \nCome and join us for a great\, fun afternoon lawn bowling \n
URL:https://efbc.net.au/event/wednesday-social-bowling/2021-01-27/
LOCATION:East Fremantle Bowling Club\, East Fremantle Bowling Club\, Fletcher Street\, East Fremantle\, Western Australia\, 6158\, Australia
CATEGORIES:Social Bowling
ATTACH;FMTTYPE=image/jpeg:https://efbc.net.au/wp-content/uploads/2019/10/east-fremantle-bowling-club-4528010.jpg
ORGANIZER;CN="East%20Fremantle%20Bowling%20Club":MAILTO:efbc@bigpond.com
END:VEVENT
END:VCALENDAR